BEGIN:VCALENDAR
VERSION:2.0
PRODID:-//Social Butterfly Club - ECPv6.15.20//NONSGML v1.0//EN
CALSCALE:GREGORIAN
METHOD:PUBLISH
X-WR-CALNAME:Social Butterfly Club
X-ORIGINAL-URL:https://socialbutterfly.berlin
X-WR-CALDESC:Events for Social Butterfly Club
REFRESH-INTERVAL;VALUE=DURATION:PT1H
X-Robots-Tag:noindex
X-PUBLISHED-TTL:PT1H
BEGIN:VTIMEZONE
TZID:Europe/Berlin
BEGIN:DAYLIGHT
TZOFFSETFROM:+0100
TZOFFSETTO:+0200
TZNAME:CEST
DTSTART:20240331T010000
END:DAYLIGHT
BEGIN:STANDARD
TZOFFSETFROM:+0200
TZOFFSETTO:+0100
TZNAME:CET
DTSTART:20241027T010000
END:STANDARD
BEGIN:DAYLIGHT
TZOFFSETFROM:+0100
TZOFFSETTO:+0200
TZNAME:CEST
DTSTART:20250330T010000
END:DAYLIGHT
BEGIN:STANDARD
TZOFFSETFROM:+0200
TZOFFSETTO:+0100
TZNAME:CET
DTSTART:20251026T010000
END:STANDARD
BEGIN:DAYLIGHT
TZOFFSETFROM:+0100
TZOFFSETTO:+0200
TZNAME:CEST
DTSTART:20260329T010000
END:DAYLIGHT
BEGIN:STANDARD
TZOFFSETFROM:+0200
TZOFFSETTO:+0100
TZNAME:CET
DTSTART:20261025T010000
END:STANDARD
END:VTIMEZONE
BEGIN:VEVENT
DTSTART;TZID=Europe/Berlin:20250817T140000
DTEND;TZID=Europe/Berlin:20250817T160000
DTSTAMP:20260420T082059
CREATED:20250725T025226Z
LAST-MODIFIED:20250730T143438Z
UID:214-1755439200-1755446400@socialbutterfly.berlin
SUMMARY:Water Buffalos at Tegeler Fließ II – The Sequel
DESCRIPTION:We tried. We failed. We try again! 🐃✨\nOn August 17\, we return to Tegeler Fließ\, one of Berlin’s most beautiful and serene nature reserves. With its winding trails through wetlands\, meadows\, and forests shaped by ancient glaciers\, this landscape feels like a hidden world just outside the city. \nThis meetup is part of the Social Butterfly Club. Join the club to get access to all meetups for 14.95€ https://club.socialbutterfly.berlin If you want to attend this event only\, you can do so by buying a ticket for 7€ via https://lu.ma/e9gztbzv
URL:https://socialbutterfly.berlin/event/water-buffalos-at-tegeler-flies-ii-the-sequel/
LOCATION:S Waidmannslust\, S Waidmannslust\, Berlin\, 13469\, Germany
CATEGORIES:Curious Chameleon,Forest Fox
ATTACH;FMTTYPE=image/jpeg:https://socialbutterfly.berlin/wp-content/uploads/2025/07/wasserbuffeltegelerflies.jpg
END:VEVENT
END:VCALENDAR