BEGIN:VCALENDAR
VERSION:2.0
PRODID:-//Social Butterfly Club - ECPv6.15.20//NONSGML v1.0//EN
CALSCALE:GREGORIAN
METHOD:PUBLISH
X-WR-CALNAME:Social Butterfly Club
X-ORIGINAL-URL:https://socialbutterfly.berlin
X-WR-CALDESC:Events for Social Butterfly Club
REFRESH-INTERVAL;VALUE=DURATION:PT1H
X-Robots-Tag:noindex
X-PUBLISHED-TTL:PT1H
BEGIN:VTIMEZONE
TZID:Europe/Berlin
BEGIN:DAYLIGHT
TZOFFSETFROM:+0100
TZOFFSETTO:+0200
TZNAME:CEST
DTSTART:20250330T010000
END:DAYLIGHT
BEGIN:STANDARD
TZOFFSETFROM:+0200
TZOFFSETTO:+0100
TZNAME:CET
DTSTART:20251026T010000
END:STANDARD
BEGIN:DAYLIGHT
TZOFFSETFROM:+0100
TZOFFSETTO:+0200
TZNAME:CEST
DTSTART:20260329T010000
END:DAYLIGHT
BEGIN:STANDARD
TZOFFSETFROM:+0200
TZOFFSETTO:+0100
TZNAME:CET
DTSTART:20261025T010000
END:STANDARD
BEGIN:DAYLIGHT
TZOFFSETFROM:+0100
TZOFFSETTO:+0200
TZNAME:CEST
DTSTART:20270328T010000
END:DAYLIGHT
BEGIN:STANDARD
TZOFFSETFROM:+0200
TZOFFSETTO:+0100
TZNAME:CET
DTSTART:20271031T010000
END:STANDARD
END:VTIMEZONE
BEGIN:VEVENT
DTSTART;TZID=Europe/Berlin:20260112T190000
DTEND;TZID=Europe/Berlin:20260112T210000
DTSTAMP:20260419T151116
CREATED:20251219T102543Z
LAST-MODIFIED:20251219T102543Z
UID:665-1768244400-1768251600@socialbutterfly.berlin
SUMMARY:New in Berlin: Curious Minds & New Connections – Social Butterfly Club 🦋
DESCRIPTION:Berlin is full of people — but real connection still happens in small moments. \nThis Social Butterfly Club Meetup is an invitation to spend a Monday evening in good company\, where conversations can wander\, curiosity is welcome\, and new connections have room to emerge. 🌆\nSome people come new to the city\, others come new to the year — all come with their own perspectives. \nIf you enjoy meeting people through conversation rather than circumstance\, this evening is for you. \n✨ Suggested Ice Breaker Question:\n“What’s something new you’re curious about right now?” \nOrga\nThis meetup is donation based. Your contribution helps keep this community alive and is highly appreciated. You can either contribute in cash or via Buy me a Coffee: https://buymeacoffee.com/butterflyradar \nQuestions? Check our FAQs:\nhttps://socialbutterfly.berlin/meetup-faq/ \nMeet your host\nI’m Julia — a Berlin local who loves bringing people together. My path went from growing up in a dance school to studying philosophy to working in IT support\, and somehow all of that led me here: hosting meetups and creating spaces where people can show up\, relax\, and connect. \nInsta https://www.instagram.com/juwaberlin/\nLinkedIn https://www.linkedin.com/in/julia-waehnert/ \nAbout\nThe Social Butterfly Club 🦋 is a Berlin-based community that has been bringing people together for over three years. Each gathering is part of a larger framework designed to help friendships grow through shared experiences in the city — with a long-term vision of turning Berlin itself into a shared\, playful experience. \nCurious to learn more about the Social Butterfly Club?\nYou can explore the bigger picture and stay connected here:\nhttps://social-butterfly-berlin.kit.com/join
URL:https://socialbutterfly.berlin/event/new-in-berlin-curious-minds-new-connections-social-butterfly-club-%f0%9f%a6%8b/
LOCATION:BarbOx\, Oranienburger Straße 65\, Berlin\, Berlin\, 10117\, Germany
CATEGORIES:Social Butterfly = For All
ATTACH;FMTTYPE=image/png:https://socialbutterfly.berlin/wp-content/uploads/2025/12/newinberlin2.png
END:VEVENT
END:VCALENDAR