BEGIN:VCALENDAR
VERSION:2.0
PRODID:-//Social Butterfly Club - ECPv6.15.20//NONSGML v1.0//EN
CALSCALE:GREGORIAN
METHOD:PUBLISH
X-WR-CALNAME:Social Butterfly Club
X-ORIGINAL-URL:https://socialbutterfly.berlin
X-WR-CALDESC:Events for Social Butterfly Club
REFRESH-INTERVAL;VALUE=DURATION:PT1H
X-Robots-Tag:noindex
X-PUBLISHED-TTL:PT1H
BEGIN:VTIMEZONE
TZID:Europe/Berlin
BEGIN:DAYLIGHT
TZOFFSETFROM:+0100
TZOFFSETTO:+0200
TZNAME:CEST
DTSTART:20240331T010000
END:DAYLIGHT
BEGIN:STANDARD
TZOFFSETFROM:+0200
TZOFFSETTO:+0100
TZNAME:CET
DTSTART:20241027T010000
END:STANDARD
BEGIN:DAYLIGHT
TZOFFSETFROM:+0100
TZOFFSETTO:+0200
TZNAME:CEST
DTSTART:20250330T010000
END:DAYLIGHT
BEGIN:STANDARD
TZOFFSETFROM:+0200
TZOFFSETTO:+0100
TZNAME:CET
DTSTART:20251026T010000
END:STANDARD
BEGIN:DAYLIGHT
TZOFFSETFROM:+0100
TZOFFSETTO:+0200
TZNAME:CEST
DTSTART:20260329T010000
END:DAYLIGHT
BEGIN:STANDARD
TZOFFSETFROM:+0200
TZOFFSETTO:+0100
TZNAME:CET
DTSTART:20261025T010000
END:STANDARD
END:VTIMEZONE
BEGIN:VEVENT
DTSTART;TZID=Europe/Berlin:20251222T190000
DTEND;TZID=Europe/Berlin:20251222T210000
DTSTAMP:20260419T164643
CREATED:20251128T100128Z
LAST-MODIFIED:20251128T100128Z
UID:538-1766430000-1766437200@socialbutterfly.berlin
SUMMARY:Social Butterfly Club 🦋 CHRISTMAS PARTY 🎄 2025
DESCRIPTION:It’s time to get festive and have a Christmas party!\nLet’s wrap up the year with laughter\, lights\, and a little bit of sparkle — together. 🌟 \nWear your ugliest Christmas sweater or some fun holiday accessories — the more over-the-top\, the better! 🎅✨ \nPlease bring a small wrapped gift (around 5 €)\, and later that evening\, Santa himself will make an appearance to hand them out in true Butterfly style. \nWe kindly ask you for a small donation for the organization of this meetup. \nAlone during the holidays? There’s a whole community waiting for you.\n🦋 Join the Social Butterfly Club and experience Berlin together\nhttps://social-butterfly-berlin.kit.com/join \nQuestions? Check out our FAQs. \n>> RSVP via Meetup <<
URL:https://socialbutterfly.berlin/event/social-butterfly-club-%f0%9f%a6%8b-christmas-party-%f0%9f%8e%84-2025/
LOCATION:BarbOx\, Oranienburger Straße 65\, Berlin\, Berlin\, 10117\, Germany
CATEGORIES:Social Butterfly = For All
ATTACH;FMTTYPE=image/png:https://socialbutterfly.berlin/wp-content/uploads/2025/11/xmasbutterflies.png
END:VEVENT
END:VCALENDAR