BEGIN:VCALENDAR
VERSION:2.0
PRODID:-//Social Butterfly Club - ECPv6.15.20//NONSGML v1.0//EN
CALSCALE:GREGORIAN
METHOD:PUBLISH
X-ORIGINAL-URL:https://socialbutterfly.berlin
X-WR-CALDESC:Events for Social Butterfly Club
REFRESH-INTERVAL;VALUE=DURATION:PT1H
X-Robots-Tag:noindex
X-PUBLISHED-TTL:PT1H
BEGIN:VTIMEZONE
TZID:Europe/Berlin
BEGIN:DAYLIGHT
TZOFFSETFROM:+0100
TZOFFSETTO:+0200
TZNAME:CEST
DTSTART:20240331T010000
END:DAYLIGHT
BEGIN:STANDARD
TZOFFSETFROM:+0200
TZOFFSETTO:+0100
TZNAME:CET
DTSTART:20241027T010000
END:STANDARD
BEGIN:DAYLIGHT
TZOFFSETFROM:+0100
TZOFFSETTO:+0200
TZNAME:CEST
DTSTART:20250330T010000
END:DAYLIGHT
BEGIN:STANDARD
TZOFFSETFROM:+0200
TZOFFSETTO:+0100
TZNAME:CET
DTSTART:20251026T010000
END:STANDARD
BEGIN:DAYLIGHT
TZOFFSETFROM:+0100
TZOFFSETTO:+0200
TZNAME:CEST
DTSTART:20260329T010000
END:DAYLIGHT
BEGIN:STANDARD
TZOFFSETFROM:+0200
TZOFFSETTO:+0100
TZNAME:CET
DTSTART:20261025T010000
END:STANDARD
END:VTIMEZONE
BEGIN:VEVENT
DTSTART;TZID=Europe/Berlin:20251217T190000
DTEND;TZID=Europe/Berlin:20251217T210000
DTSTAMP:20260419T165025
CREATED:20251128T095622Z
LAST-MODIFIED:20251128T190740Z
UID:533-1765998000-1766005200@socialbutterfly.berlin
SUMMARY:Heissa Holzmarkt - Meetup 2025
DESCRIPTION:Heissa Holzmarkt is my absolute favourite Christmas market\, and I’ve been saving it for the end of our Christmas market series. Right by the Spree\, surrounded by lights\, music\, and handmade crafts\, this market has a warmth that always feels special. Join us for dumplings\, drinks\, and a cozy winter vibe as the season reaches its peak. \nWe meet in front of the Säälchen. I will post a photo once I arrive. \nThis meetup is donation based. Your contribution is highly appreciated. \nFind more handpicked event tips in our weekly newsletter\n👉 https://socialbutterflyradar.substack.com/ \nQuestions? Check out our FAQs. \n>> RSVP via Meetup <<
URL:https://socialbutterfly.berlin/event/heissa-holzmarkt-meetup-2025/
LOCATION:Säälchen\, Holzmarktstraße 25\, Berlin\, Berlin\, 10243\, Germany
CATEGORIES:Social Butterfly = For All
ATTACH;FMTTYPE=image/png:https://socialbutterfly.berlin/wp-content/uploads/2025/11/heissaholzmarkt.png
END:VEVENT
END:VCALENDAR