BEGIN:VCALENDAR
VERSION:2.0
PRODID:-//Social Butterfly Club - ECPv6.15.20//NONSGML v1.0//EN
CALSCALE:GREGORIAN
METHOD:PUBLISH
X-ORIGINAL-URL:https://socialbutterfly.berlin
X-WR-CALDESC:Events for Social Butterfly Club
REFRESH-INTERVAL;VALUE=DURATION:PT1H
X-Robots-Tag:noindex
X-PUBLISHED-TTL:PT1H
BEGIN:VTIMEZONE
TZID:Europe/Berlin
BEGIN:DAYLIGHT
TZOFFSETFROM:+0100
TZOFFSETTO:+0200
TZNAME:CEST
DTSTART:20240331T010000
END:DAYLIGHT
BEGIN:STANDARD
TZOFFSETFROM:+0200
TZOFFSETTO:+0100
TZNAME:CET
DTSTART:20241027T010000
END:STANDARD
BEGIN:DAYLIGHT
TZOFFSETFROM:+0100
TZOFFSETTO:+0200
TZNAME:CEST
DTSTART:20250330T010000
END:DAYLIGHT
BEGIN:STANDARD
TZOFFSETFROM:+0200
TZOFFSETTO:+0100
TZNAME:CET
DTSTART:20251026T010000
END:STANDARD
BEGIN:DAYLIGHT
TZOFFSETFROM:+0100
TZOFFSETTO:+0200
TZNAME:CEST
DTSTART:20260329T010000
END:DAYLIGHT
BEGIN:STANDARD
TZOFFSETFROM:+0200
TZOFFSETTO:+0100
TZNAME:CET
DTSTART:20261025T010000
END:STANDARD
END:VTIMEZONE
BEGIN:VEVENT
DTSTART;TZID=Europe/Berlin:20251214T153000
DTEND;TZID=Europe/Berlin:20251214T173000
DTSTAMP:20260419T165031
CREATED:20251128T095309Z
LAST-MODIFIED:20251128T190723Z
UID:528-1765726200-1765733400@socialbutterfly.berlin
SUMMARY:Wedding Market - Christmas Edition - Meetup 2025
DESCRIPTION:Join us for a cozy winter afternoon at the Wedding Adventsmarkt on Leopoldplatz. Together\, we’ll explore local art\, handmade gifts\, ceramics\, accessories\, and all the creative treasures this market is known for. Grab a warm drink\, enjoy the atmosphere\, and let’s soak in a little pre-holiday magic. \nWe meet in front of the Schiller-Library (on the other side of the street) \nThis meetup is donation based. Your contribution is highly appreciated. \nFind more handpicked event tips in our weekly newsletter\n👉 https://socialbutterflyradar.substack.com/ \nQuestions? Check out our FAQs. \n>> RSVP via Meetup <<
URL:https://socialbutterfly.berlin/event/wedding-market-christmas-edition-meetup-2025/
LOCATION:Schiller-Bibliothek\, Müllerstraße 149\, Berlin\, Berlin\, 13353\, Germany
CATEGORIES:Social Butterfly = For All
ATTACH;FMTTYPE=image/png:https://socialbutterfly.berlin/wp-content/uploads/2025/11/weddingadventsmarkt.png
END:VEVENT
END:VCALENDAR