BEGIN:VCALENDAR
VERSION:2.0
PRODID:-//Social Butterfly Club - ECPv6.15.20//NONSGML v1.0//EN
CALSCALE:GREGORIAN
METHOD:PUBLISH
X-ORIGINAL-URL:https://socialbutterfly.berlin
X-WR-CALDESC:Events for Social Butterfly Club
REFRESH-INTERVAL;VALUE=DURATION:PT1H
X-Robots-Tag:noindex
X-PUBLISHED-TTL:PT1H
BEGIN:VTIMEZONE
TZID:Europe/Berlin
BEGIN:DAYLIGHT
TZOFFSETFROM:+0100
TZOFFSETTO:+0200
TZNAME:CEST
DTSTART:20240331T010000
END:DAYLIGHT
BEGIN:STANDARD
TZOFFSETFROM:+0200
TZOFFSETTO:+0100
TZNAME:CET
DTSTART:20241027T010000
END:STANDARD
BEGIN:DAYLIGHT
TZOFFSETFROM:+0100
TZOFFSETTO:+0200
TZNAME:CEST
DTSTART:20250330T010000
END:DAYLIGHT
BEGIN:STANDARD
TZOFFSETFROM:+0200
TZOFFSETTO:+0100
TZNAME:CET
DTSTART:20251026T010000
END:STANDARD
BEGIN:DAYLIGHT
TZOFFSETFROM:+0100
TZOFFSETTO:+0200
TZNAME:CEST
DTSTART:20260329T010000
END:DAYLIGHT
BEGIN:STANDARD
TZOFFSETFROM:+0200
TZOFFSETTO:+0100
TZNAME:CET
DTSTART:20261025T010000
END:STANDARD
END:VTIMEZONE
BEGIN:VEVENT
DTSTART;TZID=Europe/Berlin:20251212T190000
DTEND;TZID=Europe/Berlin:20251212T210000
DTSTAMP:20260419T165103
CREATED:20251128T094904Z
LAST-MODIFIED:20251128T190708Z
UID:523-1765566000-1765573200@socialbutterfly.berlin
SUMMARY:Karaoke at LGBTQIA Christmas Avenue Nollendorfplatz - Meetup 2025
DESCRIPTION:Join us for a joyful evening at the LGBTQIA Christmas Avenue at Nollendorfplatz! On December 12\, Mae Drescher hosts a festive karaoke night filled with glitter\, favorite hits\, and big holiday energy. Come for the music\, stay for the vibes — it’s the perfect place to sing\, shine\, and celebrate together. \nWe meet in front of EDEKA. Don’t worry\, you don’t have to sing\, if you don’t want to! \nThis meetup is donation based. Your contribution is highly appreciated. \nFind more handpicked event tips in our weekly newsletter\n👉 https://socialbutterflyradar.substack.com/ \nQuestions? Check out our FAQs. \n>> RSVP via Meetup <<
URL:https://socialbutterfly.berlin/event/karaoke-at-lgbtqia-christmas-avenue-nollendorfplatz-meetup-2025/
LOCATION:EDEKA an der Nolle\, Nollendorfplatz 8-9\, Berlin\, Berlin\, 10777\, Germany
CATEGORIES:Social Butterfly = For All
ATTACH;FMTTYPE=image/png:https://socialbutterfly.berlin/wp-content/uploads/2025/11/christmasavenuekaraoke.png
END:VEVENT
END:VCALENDAR